BEGIN:VCALENDAR
VERSION:2.0
PRODID:-//Rushton Parish Council//Meeting Calendar//EN
CALSCALE:GREGORIAN
METHOD:PUBLISH
BEGIN:VEVENT
UID:70615-20241120@rushtonparishcouncil.gov.uk
DTSTAMP:20260422T085031Z
DTSTART;VALUE=DATE:20241120
DTEND;VALUE=DATE:20241121
SUMMARY:Council Meeting &#8211\\; 20th November 2024
DESCRIPTION:Full Council Meeting\nView details: https://rushtonparishcouncil.gov.uk/meetings/council-meeting-20th-november-2024/
URL:https://rushtonparishcouncil.gov.uk/meetings/council-meeting-20th-november-2024/
END:VEVENT
END:VCALENDAR
